BEGIN:VCALENDAR
VERSION:2.0
PRODID:-//ASMEM - ECPv5.11.0//NONSGML v1.0//EN
CALSCALE:GREGORIAN
METHOD:PUBLISH
X-WR-CALNAME:ASMEM
X-ORIGINAL-URL:https://www.asmem.ch
X-WR-CALDESC:évènements pour ASMEM
BEGIN:VTIMEZONE
TZID:Europe/Paris
BEGIN:DAYLIGHT
TZOFFSETFROM:+0100
TZOFFSETTO:+0200
TZNAME:CEST
DTSTART:20210328T010000
END:DAYLIGHT
BEGIN:STANDARD
TZOFFSETFROM:+0200
TZOFFSETTO:+0100
TZNAME:CET
DTSTART:20211031T010000
END:STANDARD
END:VTIMEZONE
BEGIN:VEVENT
DTSTART;TZID=Europe/Paris:20210316T183000
DTEND;TZID=Europe/Paris:20210316T210000
DTSTAMP:20260421T153409
CREATED:20210312T093531Z
LAST-MODIFIED:20210312T093932Z
UID:23318-1615919400-1615928400@www.asmem.ch
SUMMARY:Les Salons du Général Dufour fêtent leur 10 ans
DESCRIPTION:En association avec les Salons du Général Dufour\, nous vous proposons une nouvelle soirée visioconférence en collaboration avec Storia Mundi.\nA cette occasion\, les Salons du Général Dufour vous proposent de (re)découvrir la vie et l’œuvre de Guillaume Henri Dufour.\nPour participer à l’évènement\, inscrivez-vous dès maintenant ici. Vous recevrez une confirmation d’inscription qui vous permettra de vous connecter le jour de la conférence. Pour information\, les personnes inscrites correctement se voient confirmer leur participation par Storia Mundi qui leur donne un lien sur lequel revenir\, le jour de la conférence.Après avoir reçu votre confirmation (ou en cas de problème)\, merci également d’envoyer une confirmation d’inscription à info@salons-dufour.ch ainsi qu’à webmaster@asmem.ch en copie. \n  \n			\n			\n				\n				\n			\n				\n				\n				\n				\n				\n				\n				Le programme détaillé de la soirée visioconférence peut être consulté sur le site Salons du Général Dufour. \nRésumé de la soirée18h30 – Partie I : Les Salons Dufour fêtent leur 10 ans !19h15 – Partie II : Dufour\, l’homme à qui la Suisse doit tantPartie III : Pourquoi Dufour\, pourquoi aujourd’huiPartie IV : Une rare occasion de poser vos questions aux historiens
URL:https://www.asmem.ch/event/les-salons-du-general-dufour-fetent-leur-10-ans/
ATTACH;FMTTYPE=image/jpeg:https://www.asmem.ch/wp-content/uploads/2021/03/Dufour2.jpg
ORGANIZER;CN="Les%20Salons%20du%20G%C3%A9n%C3%A9ral%20Dufour":MAILTO:info@salons-dufour.ch
END:VEVENT
END:VCALENDAR