BEGIN:VCALENDAR
VERSION:2.0
PRODID:-//ASMEM - ECPv5.11.0//NONSGML v1.0//EN
CALSCALE:GREGORIAN
METHOD:PUBLISH
X-WR-CALNAME:ASMEM
X-ORIGINAL-URL:https://www.asmem.ch
X-WR-CALDESC:évènements pour ASMEM
BEGIN:VTIMEZONE
TZID:Europe/Paris
BEGIN:DAYLIGHT
TZOFFSETFROM:+0100
TZOFFSETTO:+0200
TZNAME:CEST
DTSTART:20210328T010000
END:DAYLIGHT
BEGIN:STANDARD
TZOFFSETFROM:+0200
TZOFFSETTO:+0100
TZNAME:CET
DTSTART:20211031T010000
END:STANDARD
END:VTIMEZONE
BEGIN:VEVENT
DTSTART;VALUE=DATE:20211009
DTEND;VALUE=DATE:20211011
DTSTAMP:20260424T101610
CREATED:20210830T114846Z
LAST-MODIFIED:20211001T180205Z
UID:23741-1633737600-1633910399@www.asmem.ch
SUMMARY:Fort de Dailly – Journées de visites extraordinaires\, 9 & 10 octobre 2021
DESCRIPTION:Visites extraordinaires – Fort de Dailly\nLa Fondation forteresse historique (FFH) organise deux journées de visites extraordinaires le samedi 09 octobre et le dimanche 10 octobre 2021.\n(Sous réserves de modification ou de suppression en fonction de la situation COVID) \nProgramme et inscription online obligatoire via le site de la FFH Fort de Dailly – Journées extraordinaires \nExtraits du programme: \n\nVisite guidée assurée par les guides de la FFH\, durée environ 2h30\n\nMontbenon (Funiculaire et T1)\nGalerie Rossignol\nTransport par véhicule entre les sites Montbenon et Galerie Rossignol\nPetite restauration et boissons sur place (à l’observatoire si la météo le permet\, sinon à l’intérieur)\, prix affichés sur place\n\n\n\nProgramme complet détaillé sur Fort de Dailly – Journées extraordinaires
URL:https://www.asmem.ch/event/fort-de-dailly-journees-de-visites-extraordinaires-9-10-octobre-2021/
LOCATION:Fort de Dailly\, Lavey-Morcles\, VD\, 1892\, Suisse
ATTACH;FMTTYPE=image/jpeg:https://www.asmem.ch/wp-content/uploads/2016/12/Images-9.jpg
END:VEVENT
END:VCALENDAR