BEGIN:VCALENDAR
VERSION:2.0
PRODID:-//ASMEM - ECPv5.11.0//NONSGML v1.0//EN
CALSCALE:GREGORIAN
METHOD:PUBLISH
X-WR-CALNAME:ASMEM
X-ORIGINAL-URL:https://www.asmem.ch
X-WR-CALDESC:évènements pour ASMEM
BEGIN:VTIMEZONE
TZID:Europe/Paris
BEGIN:DAYLIGHT
TZOFFSETFROM:+0100
TZOFFSETTO:+0200
TZNAME:CEST
DTSTART:20190331T010000
END:DAYLIGHT
BEGIN:STANDARD
TZOFFSETFROM:+0200
TZOFFSETTO:+0100
TZNAME:CET
DTSTART:20191027T010000
END:STANDARD
END:VTIMEZONE
BEGIN:VEVENT
DTSTART;TZID=Europe/Paris:20190205T183000
DTEND;TZID=Europe/Paris:20190205T213000
DTSTAMP:20260420T102407
CREATED:20181030T200829Z
LAST-MODIFIED:20181209T160437Z
UID:13782-1549391400-1549402200@www.asmem.ch
SUMMARY:ASMEM - Réunion du comité - Par Maurice
DESCRIPTION:PV dernière séance\nAdmissions / Démissions / Comptes\nComité\n\nAG\n\n\nActivité ASMEM\n\nAG 2019 – à Sion\nSortie d’été 2019 – Sud de l’Allemagne\nAutomne 2019 – Tyrol Italien\nSte Barbe\nSortie d’été 2020\nAutomne 2020\n\n\nShop\n\nRebold – Campagne de promotion\nEcriture pour l’état du Valais\n\nEn attente\n\n\n\n\nMatériel et bibliothèque\n\nDiscussion avec Etat du Valais pour la bibliothèque\nDiscussion avec FFH ou Armasuisse pour notre expo\n\n\nCollectif Fortif Dailly\nDivers\nProchaine réunion
URL:https://www.asmem.ch/event/asmem-reunion-du-comite-par-maurice/
LOCATION:Lausanne VD\, Salle Paderewski (Casino Montbenon)\, Allée Ernest-Ansermet 3\, Lausanne\, 1003\, Suisse
CATEGORIES:ASMEM Comité
ATTACH;FMTTYPE=image/jpeg:https://www.asmem.ch/wp-content/uploads/2017/06/Oradour-4.jpg
END:VEVENT
END:VCALENDAR