BEGIN:VCALENDAR
VERSION:2.0
PRODID:-//ASMEM - ECPv5.11.0//NONSGML v1.0//EN
CALSCALE:GREGORIAN
METHOD:PUBLISH
X-WR-CALNAME:ASMEM
X-ORIGINAL-URL:https://www.asmem.ch
X-WR-CALDESC:évènements pour ASMEM
BEGIN:VTIMEZONE
TZID:Europe/Paris
BEGIN:DAYLIGHT
TZOFFSETFROM:+0100
TZOFFSETTO:+0200
TZNAME:CEST
DTSTART:20210328T010000
END:DAYLIGHT
BEGIN:STANDARD
TZOFFSETFROM:+0200
TZOFFSETTO:+0100
TZNAME:CET
DTSTART:20211031T010000
END:STANDARD
END:VTIMEZONE
BEGIN:VEVENT
DTSTART;TZID=Europe/Paris:20210306T080000
DTEND;TZID=Europe/Paris:20210306T170000
DTSTAMP:20260421T181553
CREATED:20191124T084209Z
LAST-MODIFIED:20210123T095113Z
UID:19618-1615017600-1615050000@www.asmem.ch
SUMMARY:REPORTÉ - AG ASMEM 2021 - Pour cause de COVID\, l'AG de l'ASMEM est reporté au 4 septembre 2021.
DESCRIPTION:L’AG de l’ASMEM initialement prévue le 6 mars 2021 est reportée au 4 septembre 2021.\n			\n				AG ASMEM -  4 septembre 2021
URL:https://www.asmem.ch/event/ag-asmem-6mars2021/
LOCATION:Abbaye de Saint-Maurice\, Avenue d'Agaune 15\, Saint-Maurice\, 1890\, Switzerland
CATEGORIES:ASMEM Comité,ASMEM Interne
ATTACH;FMTTYPE=image/jpeg:https://www.asmem.ch/wp-content/uploads/2019/03/190330AGASMEM-16.jpg
END:VEVENT
END:VCALENDAR